BEGIN:VCALENDAR
VERSION:2.0
PRODID:-//Confimi Industria Cremona - ECPv6.15.20//NONSGML v1.0//EN
CALSCALE:GREGORIAN
METHOD:PUBLISH
X-WR-CALNAME:Confimi Industria Cremona
X-ORIGINAL-URL:https://confimicremona.it
X-WR-CALDESC:Eventi per Confimi Industria Cremona
REFRESH-INTERVAL;VALUE=DURATION:PT1H
X-Robots-Tag:noindex
X-PUBLISHED-TTL:PT1H
BEGIN:VTIMEZONE
TZID:Europe/Paris
BEGIN:DAYLIGHT
TZOFFSETFROM:+0100
TZOFFSETTO:+0200
TZNAME:CEST
DTSTART:20250330T010000
END:DAYLIGHT
BEGIN:STANDARD
TZOFFSETFROM:+0200
TZOFFSETTO:+0100
TZNAME:CET
DTSTART:20251026T010000
END:STANDARD
BEGIN:DAYLIGHT
TZOFFSETFROM:+0100
TZOFFSETTO:+0200
TZNAME:CEST
DTSTART:20260329T010000
END:DAYLIGHT
BEGIN:STANDARD
TZOFFSETFROM:+0200
TZOFFSETTO:+0100
TZNAME:CET
DTSTART:20261025T010000
END:STANDARD
BEGIN:DAYLIGHT
TZOFFSETFROM:+0100
TZOFFSETTO:+0200
TZNAME:CEST
DTSTART:20270328T010000
END:DAYLIGHT
BEGIN:STANDARD
TZOFFSETFROM:+0200
TZOFFSETTO:+0100
TZNAME:CET
DTSTART:20271031T010000
END:STANDARD
END:VTIMEZONE
BEGIN:VEVENT
DTSTART;VALUE=DATE:20260210
DTEND;VALUE=DATE:20260211
DTSTAMP:20260424T180100
CREATED:20260112T144307Z
LAST-MODIFIED:20260123T153006Z
UID:3768-1770681600-1770767999@confimicremona.it
SUMMARY:Carrelli elevatori: Madignano – Aggiornamento – Febbraio 2026
DESCRIPTION:
URL:https://confimicremona.it/corso/carrelli-elevatori-madignano-aggiornamento-febbraio-2026/
CATEGORIES:Corsi sulla sicurezza
ATTACH;FMTTYPE=image/jpeg:https://confimicremona.it/wp-content/uploads/2026/01/cover-1768228678415-648782834.jpeg
END:VEVENT
END:VCALENDAR