BEGIN:VCALENDAR
VERSION:2.0
PRODID:-//Confimi Industria Cremona - ECPv6.15.20//NONSGML v1.0//EN
CALSCALE:GREGORIAN
METHOD:PUBLISH
X-ORIGINAL-URL:https://confimicremona.it
X-WR-CALDESC:Eventi per Confimi Industria Cremona
REFRESH-INTERVAL;VALUE=DURATION:PT1H
X-Robots-Tag:noindex
X-PUBLISHED-TTL:PT1H
BEGIN:VTIMEZONE
TZID:Europe/Paris
BEGIN:DAYLIGHT
TZOFFSETFROM:+0100
TZOFFSETTO:+0200
TZNAME:CEST
DTSTART:20250330T010000
END:DAYLIGHT
BEGIN:STANDARD
TZOFFSETFROM:+0200
TZOFFSETTO:+0100
TZNAME:CET
DTSTART:20251026T010000
END:STANDARD
BEGIN:DAYLIGHT
TZOFFSETFROM:+0100
TZOFFSETTO:+0200
TZNAME:CEST
DTSTART:20260329T010000
END:DAYLIGHT
BEGIN:STANDARD
TZOFFSETFROM:+0200
TZOFFSETTO:+0100
TZNAME:CET
DTSTART:20261025T010000
END:STANDARD
BEGIN:DAYLIGHT
TZOFFSETFROM:+0100
TZOFFSETTO:+0200
TZNAME:CEST
DTSTART:20270328T010000
END:DAYLIGHT
BEGIN:STANDARD
TZOFFSETFROM:+0200
TZOFFSETTO:+0100
TZNAME:CET
DTSTART:20271031T010000
END:STANDARD
END:VTIMEZONE
BEGIN:VEVENT
DTSTART;TZID=Europe/Paris:20260423T090000
DTEND;TZID=Europe/Paris:20260423T120000
DTSTAMP:20260420T020436
CREATED:20260402T131946Z
LAST-MODIFIED:20260410T150004Z
UID:5316-1776934800-1776945600@confimicremona.it
SUMMARY:INCOTERMS® 2020 e trasporto-consegna delle merci nel commercio internazionale | Costi\, rischi\, responsabilità\, casi pratici
DESCRIPTION:
URL:https://confimicremona.it/corso/incoterms-2020-e-trasporto-consegna-delle-merci-nel-commercio-internazionale-costi-rischi-responsabilita-casi-pratici/
CATEGORIES:Acquisti, produzione e logistica,Corso in webinar,Export
ATTACH;FMTTYPE=image/jpeg:https://confimicremona.it/wp-content/uploads/2026/04/icoterms.jpg
END:VEVENT
BEGIN:VEVENT
DTSTART;TZID=Europe/Paris:20260526T090000
DTEND;TZID=Europe/Paris:20260526T120000
DTSTAMP:20260420T020436
CREATED:20260402T131847Z
LAST-MODIFIED:20260410T145834Z
UID:5319-1779786000-1779796800@confimicremona.it
SUMMARY:L’origine doganale delle merci nel commercio internazionale Accordi di libero scambio (origine preferenziale) E MADE IN (origine non preferenziale)
DESCRIPTION:
URL:https://confimicremona.it/corso/lorigine-doganale-delle-merci-nel-commercio-internazionale-accordi-di-libero-scambio-origine-preferenziale-e-made-in-origine-non-preferenziale/
CATEGORIES:Acquisti, produzione e logistica,Corso in webinar,Export
ATTACH;FMTTYPE=image/jpeg:https://confimicremona.it/wp-content/uploads/2026/04/dogana.jpg
END:VEVENT
BEGIN:VEVENT
DTSTART;TZID=Europe/Paris:20260626T090000
DTEND;TZID=Europe/Paris:20260626T130000
DTSTAMP:20260420T020436
CREATED:20260401T153249Z
LAST-MODIFIED:20260401T153259Z
UID:5354-1782464400-1782478800@confimicremona.it
SUMMARY:L’ABC per la gestione degli adempimenti e delle procedure doganali. Focus sulle fasi operative di sdoganamento delle merci
DESCRIPTION:
URL:https://confimicremona.it/corso/labc-per-la-gestione-degli-adempimenti-e-delle-procedure-doganali-focus-sulle-fasi-operative-di-sdoganamento-delle-merci/
CATEGORIES:Acquisti, produzione e logistica,Corso in webinar,Export
ATTACH;FMTTYPE=image/jpeg:https://confimicremona.it/wp-content/uploads/2026/04/cover-1775057509418-398724114-scaled.jpg
END:VEVENT
BEGIN:VEVENT
DTSTART;VALUE=DATE:20260917
DTEND;VALUE=DATE:20260918
DTSTAMP:20260420T020436
CREATED:20251204T231237Z
LAST-MODIFIED:20260119T195536Z
UID:1392-1789603200-1789689599@confimicremona.it
SUMMARY:I costi di produzione e il prezzo di vendita. Come rispondere alla domanda del mercato: a quale prezzo? A quali condizioni?
DESCRIPTION:
URL:https://confimicremona.it/corso/i-costi-di-produzione-e-il-prezzo-di-vendita-come-rispondere-alla-domanda-del-mercato-a-quale-prezzo-a-quali-condizioni/
CATEGORIES:Acquisti, produzione e logistica
ATTACH;FMTTYPE=image/jpeg:https://confimicremona.it/wp-content/uploads/2025/12/costi-di-produzione-corso.jpg
END:VEVENT
END:VCALENDAR