BEGIN:VCALENDAR
VERSION:2.0
PRODID:-//Confimi Industria Cremona - ECPv6.15.20//NONSGML v1.0//EN
CALSCALE:GREGORIAN
METHOD:PUBLISH
X-ORIGINAL-URL:https://confimicremona.it
X-WR-CALDESC:Eventi per Confimi Industria Cremona
REFRESH-INTERVAL;VALUE=DURATION:PT1H
X-Robots-Tag:noindex
X-PUBLISHED-TTL:PT1H
BEGIN:VTIMEZONE
TZID:Europe/Paris
BEGIN:DAYLIGHT
TZOFFSETFROM:+0100
TZOFFSETTO:+0200
TZNAME:CEST
DTSTART:20250330T010000
END:DAYLIGHT
BEGIN:STANDARD
TZOFFSETFROM:+0200
TZOFFSETTO:+0100
TZNAME:CET
DTSTART:20251026T010000
END:STANDARD
BEGIN:DAYLIGHT
TZOFFSETFROM:+0100
TZOFFSETTO:+0200
TZNAME:CEST
DTSTART:20260329T010000
END:DAYLIGHT
BEGIN:STANDARD
TZOFFSETFROM:+0200
TZOFFSETTO:+0100
TZNAME:CET
DTSTART:20261025T010000
END:STANDARD
BEGIN:DAYLIGHT
TZOFFSETFROM:+0100
TZOFFSETTO:+0200
TZNAME:CEST
DTSTART:20270328T010000
END:DAYLIGHT
BEGIN:STANDARD
TZOFFSETFROM:+0200
TZOFFSETTO:+0100
TZNAME:CET
DTSTART:20271031T010000
END:STANDARD
END:VTIMEZONE
BEGIN:VEVENT
DTSTART;TZID=Europe/Paris:20260428T090000
DTEND;TZID=Europe/Paris:20260428T130000
DTSTAMP:20260420T002812
CREATED:20260402T132050Z
LAST-MODIFIED:20260410T145800Z
UID:5310-1777366800-1777381200@confimicremona.it
SUMMARY:Multiculturalità in azienda
DESCRIPTION:
URL:https://confimicremona.it/corso/multiculturalita-in-azienda/
CATEGORIES:Corso in webinar,Export,Gestione risorse umane,Leadership e Soft Skills,Marketing, comunicazione e vendite,Per tutti
ATTACH;FMTTYPE=image/jpeg:https://confimicremona.it/wp-content/uploads/2026/04/multicultura.jpg
END:VEVENT
BEGIN:VEVENT
DTSTART;VALUE=DATE:20260702
DTEND;VALUE=DATE:20260703
DTSTAMP:20260420T002812
CREATED:20251204T231237Z
LAST-MODIFIED:20260227T120609Z
UID:1416-1782950400-1783036799@confimicremona.it
SUMMARY:Corso Per Apprendisti – 2° Annualità – Problem Solving
DESCRIPTION:
URL:https://confimicremona.it/corso/corso-per-apprendisti-2-annualita-problem-solving/
CATEGORIES:Per tutti
ATTACH;FMTTYPE=image/jpeg:https://confimicremona.it/wp-content/uploads/2025/12/problem-solving.jpg
END:VEVENT
BEGIN:VEVENT
DTSTART;VALUE=DATE:20261008
DTEND;VALUE=DATE:20261009
DTSTAMP:20260420T002812
CREATED:20251204T231237Z
LAST-MODIFIED:20260227T121722Z
UID:4510-1791417600-1791503999@confimicremona.it
SUMMARY:Corso Per Apprendisti – 1° Annualità – Competenze di base e trasversali: aspetti normativi e qualitativi del lavoro in azienda - Ottobre 2026
DESCRIPTION:
URL:https://confimicremona.it/corso/corso-per-apprendisti-1-annualita-competenze-di-base-e-trasversali-aspetti-normativi-e-qualitativi-del-lavoro-in-azienda-2/
CATEGORIES:Per tutti
ATTACH;FMTTYPE=image/jpeg:https://confimicremona.it/wp-content/uploads/2025/12/business-corso-apprendistato.jpg
END:VEVENT
BEGIN:VEVENT
DTSTART;VALUE=DATE:20261204
DTEND;VALUE=DATE:20261205
DTSTAMP:20260420T002812
CREATED:20251204T231237Z
LAST-MODIFIED:20260227T120801Z
UID:1410-1796342400-1796428799@confimicremona.it
SUMMARY:Corso Per Apprendisti – 2° Annualità – Pacchetto Office - Livello Base
DESCRIPTION:
URL:https://confimicremona.it/corso/corso-per-apprendisti-2-annualita-pacchetto-office-livello-base/
CATEGORIES:Per tutti
ATTACH;FMTTYPE=image/jpeg:https://confimicremona.it/wp-content/uploads/2025/12/pacchetto-office.jpg
END:VEVENT
END:VCALENDAR