BEGIN:VCALENDAR
VERSION:2.0
PRODID:-//Confimi Industria Cremona - ECPv6.15.20//NONSGML v1.0//EN
CALSCALE:GREGORIAN
METHOD:PUBLISH
X-ORIGINAL-URL:https://confimicremona.it
X-WR-CALDESC:Eventi per Confimi Industria Cremona
REFRESH-INTERVAL;VALUE=DURATION:PT1H
X-Robots-Tag:noindex
X-PUBLISHED-TTL:PT1H
BEGIN:VTIMEZONE
TZID:Europe/Paris
BEGIN:DAYLIGHT
TZOFFSETFROM:+0100
TZOFFSETTO:+0200
TZNAME:CEST
DTSTART:20250330T010000
END:DAYLIGHT
BEGIN:STANDARD
TZOFFSETFROM:+0200
TZOFFSETTO:+0100
TZNAME:CET
DTSTART:20251026T010000
END:STANDARD
BEGIN:DAYLIGHT
TZOFFSETFROM:+0100
TZOFFSETTO:+0200
TZNAME:CEST
DTSTART:20260329T010000
END:DAYLIGHT
BEGIN:STANDARD
TZOFFSETFROM:+0200
TZOFFSETTO:+0100
TZNAME:CET
DTSTART:20261025T010000
END:STANDARD
BEGIN:DAYLIGHT
TZOFFSETFROM:+0100
TZOFFSETTO:+0200
TZNAME:CEST
DTSTART:20270328T010000
END:DAYLIGHT
BEGIN:STANDARD
TZOFFSETFROM:+0200
TZOFFSETTO:+0100
TZNAME:CET
DTSTART:20271031T010000
END:STANDARD
END:VTIMEZONE
BEGIN:VEVENT
DTSTART;TZID=Europe/Paris:20260417T090000
DTEND;TZID=Europe/Paris:20260417T110000
DTSTAMP:20260422T150049
CREATED:20260401T135543Z
LAST-MODIFIED:20260410T145805Z
UID:5298-1776416400-1776423600@confimicremona.it
SUMMARY:FISCALITÀ UE ED EXTRA UE
DESCRIPTION:
URL:https://confimicremona.it/corso/fiscalita-ue-ed-extra-ue/
CATEGORIES:Amministrazione, finanza e controllo,Corso in webinar,Export
ATTACH;FMTTYPE=image/png:https://confimicremona.it/wp-content/uploads/2026/04/cover-1775051699562-842853895-scaled.png
END:VEVENT
BEGIN:VEVENT
DTSTART;VALUE=DATE:20260416
DTEND;VALUE=DATE:20260417
DTSTAMP:20260422T150049
CREATED:20251204T231237Z
LAST-MODIFIED:20260227T121413Z
UID:1397-1776297600-1776383999@confimicremona.it
SUMMARY:Corso Per Apprendisti – 1° Annualità – Competenze di base e trasversali: aspetti normativi e qualitativi del lavoro in azienda - Aprile 2026
DESCRIPTION:
URL:https://confimicremona.it/corso/corso-per-apprendisti-1-annualita-competenze-di-base-e-trasversali-aspetti-normativi-e-qualitativi-del-lavoro-in-azienda/
CATEGORIES:Per tutti
ATTACH;FMTTYPE=image/jpeg:https://confimicremona.it/wp-content/uploads/2025/12/business-corso-apprendistato.jpg
END:VEVENT
BEGIN:VEVENT
DTSTART;TZID=Europe/Paris:20260414T090000
DTEND;TZID=Europe/Paris:20260414T120000
DTSTAMP:20260422T150049
CREATED:20260401T134740Z
LAST-MODIFIED:20260401T134748Z
UID:5289-1776157200-1776168000@confimicremona.it
SUMMARY:DIMISSIONI\, PREAVVISO E PERIODO DI PROVA
DESCRIPTION:
URL:https://confimicremona.it/corso/dimissioni-preavviso-e-periodo-di-prova/
CATEGORIES:Corso in webinar,Gestione risorse umane
ATTACH;FMTTYPE=image/jpeg:https://confimicremona.it/wp-content/uploads/2026/04/cover-1775051199449-212979034-scaled.jpg
END:VEVENT
BEGIN:VEVENT
DTSTART;TZID=Europe/Paris:20260410T090000
DTEND;TZID=Europe/Paris:20260410T130000
DTSTAMP:20260422T150049
CREATED:20260402T132206Z
LAST-MODIFIED:20260410T145727Z
UID:5286-1775811600-1775826000@confimicremona.it
SUMMARY:ACCOGLIENZA E SEGRETERIA
DESCRIPTION:
URL:https://confimicremona.it/corso/accoglienza-e-segreteria/
CATEGORIES:Corso in webinar,Gestione risorse umane,Leadership e Soft Skills,Marketing, comunicazione e vendite,Per tutti
ATTACH;FMTTYPE=image/jpeg:https://confimicremona.it/wp-content/uploads/2026/04/accoglienza.jpg
END:VEVENT
BEGIN:VEVENT
DTSTART;TZID=Europe/Paris:20260408T090000
DTEND;TZID=Europe/Paris:20260409T180000
DTSTAMP:20260422T150049
CREATED:20260401T125137Z
LAST-MODIFIED:20260401T125146Z
UID:5277-1775638800-1775757600@confimicremona.it
SUMMARY:Preposti – Prima formazione – Aprile 2026
DESCRIPTION:
URL:https://confimicremona.it/corso/preposti-prima-formazione-aprile-2026/
CATEGORIES:Corsi sulla sicurezza
ATTACH;FMTTYPE=image/png:https://confimicremona.it/wp-content/uploads/2026/04/cover-preposti-prima-formazione-aprile-2026-1775047877510.png
END:VEVENT
BEGIN:VEVENT
DTSTART;TZID=Europe/Paris:20260408T090000
DTEND;TZID=Europe/Paris:20260409T180000
DTSTAMP:20260422T150049
CREATED:20260206T150303Z
LAST-MODIFIED:20260206T150310Z
UID:4017-1775638800-1775757600@confimicremona.it
SUMMARY:STRATEGIE E PROCESSI HR PER L’ECCELLENZA ORGANIZZATIVA
DESCRIPTION:
URL:https://confimicremona.it/corso/strategie-e-processi-hr-per-leccellenza-organizzativa/
CATEGORIES:Gestione risorse umane,Leadership e Soft Skills,Management e strategia
ATTACH;FMTTYPE=image/jpeg:https://confimicremona.it/wp-content/uploads/2026/02/cover-1770390120847-597467187.jpg
END:VEVENT
BEGIN:VEVENT
DTSTART;TZID=Europe/Paris:20260408T090000
DTEND;TZID=Europe/Paris:20260408T110000
DTSTAMP:20260422T150049
CREATED:20260402T132122Z
LAST-MODIFIED:20260402T132124Z
UID:5304-1775638800-1775646000@confimicremona.it
SUMMARY:PATENTE A CREDITI: SANZIONI E TUTELE
DESCRIPTION:
URL:https://confimicremona.it/corso/patente-a-crediti-sanzioni-e-tutele/
CATEGORIES:Corsi sulla sicurezza,Corso in webinar,Per tutti
END:VEVENT
BEGIN:VEVENT
DTSTART;TZID=Europe/Paris:20260327T090000
DTEND;TZID=Europe/Paris:20260328T180000
DTSTAMP:20260422T150049
CREATED:20260210T081357Z
LAST-MODIFIED:20260210T081404Z
UID:4160-1774602000-1774720800@confimicremona.it
SUMMARY:Sicurezza Lavoratori – Parte specifica rischio alto – Marzo 2026
DESCRIPTION:
URL:https://confimicremona.it/corso/sicurezza-lavoratori-parte-specifica-rischio-alto-marzo-2026/
CATEGORIES:Corsi sulla sicurezza
ATTACH;FMTTYPE=image/png:https://confimicremona.it/wp-content/uploads/2026/02/cover-sicurezza-lavoratori-parte-specifica-rischio-alto-1770711224688.png
END:VEVENT
BEGIN:VEVENT
DTSTART;TZID=Europe/Paris:20260327T090000
DTEND;TZID=Europe/Paris:20260327T170000
DTSTAMP:20260422T150049
CREATED:20260210T081122Z
LAST-MODIFIED:20260210T081129Z
UID:4157-1774602000-1774630800@confimicremona.it
SUMMARY:Sicurezza Lavoratori – Parte specifica rischio medio – Marzo 2026
DESCRIPTION:
URL:https://confimicremona.it/corso/sicurezza-lavoratori-parte-specifica-rischio-medio-marzo-2026/
CATEGORIES:Corsi sulla sicurezza
ATTACH;FMTTYPE=image/png:https://confimicremona.it/wp-content/uploads/2026/02/cover-sicurezza-lavoratori-parte-specifica-rischio-medio-1770711069695.png
END:VEVENT
BEGIN:VEVENT
DTSTART;TZID=Europe/Paris:20260327T090000
DTEND;TZID=Europe/Paris:20260327T150000
DTSTAMP:20260422T150049
CREATED:20260210T081636Z
LAST-MODIFIED:20260210T081643Z
UID:4163-1774602000-1774623600@confimicremona.it
SUMMARY:Sicurezza Lavoratori – Aggiornamento – Marzo 2026
DESCRIPTION:
URL:https://confimicremona.it/corso/sicurezza-lavoratori-aggiornamento-marzo-2026/
CATEGORIES:Corsi sulla sicurezza
ATTACH;FMTTYPE=image/png:https://confimicremona.it/wp-content/uploads/2026/02/cover-sicurezza-lavoratori-aggiornamento-marzo-2026-1770711381588.png
END:VEVENT
BEGIN:VEVENT
DTSTART;TZID=Europe/Paris:20260327T090000
DTEND;TZID=Europe/Paris:20260327T130000
DTSTAMP:20260422T150049
CREATED:20260210T080831Z
LAST-MODIFIED:20260210T080838Z
UID:4154-1774602000-1774616400@confimicremona.it
SUMMARY:Sicurezza Lavoratori – Parte specifica rischio basso – Marzo 2026
DESCRIPTION:
URL:https://confimicremona.it/corso/sicurezza-lavoratori-parte-specifica-rischio-basso-marzo-2026/
CATEGORIES:Corsi sulla sicurezza
ATTACH;FMTTYPE=image/png:https://confimicremona.it/wp-content/uploads/2026/02/cover-sicurezza-lavoratori-parte-specifica-rischio-basso-1770710896350.png
END:VEVENT
BEGIN:VEVENT
DTSTART;TZID=Europe/Paris:20260327T090000
DTEND;TZID=Europe/Paris:20260327T130000
DTSTAMP:20260422T150049
CREATED:20260210T080520Z
LAST-MODIFIED:20260210T080527Z
UID:4151-1774602000-1774616400@confimicremona.it
SUMMARY:Sicurezza Lavoratori – Parte Generale Marzo 2026
DESCRIPTION:
URL:https://confimicremona.it/corso/sicurezza-lavoratori-parte-generale-marzo-2026/
CATEGORIES:Corsi sulla sicurezza,Gestione risorse umane
ATTACH;FMTTYPE=image/png:https://confimicremona.it/wp-content/uploads/2026/02/cover-sicurezza-lavoratori-parte-generale-marzo-2026-1770710706291.png
END:VEVENT
BEGIN:VEVENT
DTSTART;TZID=Europe/Paris:20260326T090000
DTEND;TZID=Europe/Paris:20260326T110000
DTSTAMP:20260422T150049
CREATED:20260227T133752Z
LAST-MODIFIED:20260227T133759Z
UID:4524-1774515600-1774522800@confimicremona.it
SUMMARY:TRASFERTE\, VIAGGI E SPESE CORRELATE IN ITALIA E ALL’ESTERO
DESCRIPTION:
URL:https://confimicremona.it/corso/trasferte-viaggi-e-spese-correlate-in-italia-e-allestero/
CATEGORIES:Amministrazione, finanza e controllo,Corso in webinar,Gestione risorse umane,Management e strategia
ATTACH;FMTTYPE=image/jpeg:https://confimicremona.it/wp-content/uploads/2026/02/cover-1772199385816-181499031-scaled.jpg
END:VEVENT
BEGIN:VEVENT
DTSTART;TZID=Europe/Paris:20260326T000000
DTEND;TZID=Europe/Paris:20260326T000000
DTSTAMP:20260422T150049
CREATED:20260223T172445Z
LAST-MODIFIED:20260223T172546Z
UID:4462-1774483200-1774483200@confimicremona.it
SUMMARY:Le nuove sanzioni penali per la violazione delle misure restrittive istituite dall’UE Come la geopolitica impatta sull’operatività aziendale nel commercio internazionale
DESCRIPTION:
URL:https://confimicremona.it/corso/le-nuove-sanzioni-penali-per-la-violazione-delle-misure-restrittive-istituite-dallue-come-la-geopolitica-impatta-sulloperativita-aziendale-nel-commercio-internazionale/
CATEGORIES:Acquisti, produzione e logistica,Corso in webinar,Export,Management e strategia
ATTACH;FMTTYPE=image/jpeg:https://confimicremona.it/wp-content/uploads/2026/01/cover-1768227508574-28616872-scaled.jpg
END:VEVENT
BEGIN:VEVENT
DTSTART;TZID=Europe/Paris:20260325T090000
DTEND;TZID=Europe/Paris:20260325T130000
DTSTAMP:20260422T150049
CREATED:20260210T080207Z
LAST-MODIFIED:20260210T080214Z
UID:4148-1774429200-1774443600@confimicremona.it
SUMMARY:Primo Soccorso aziende del gruppo B-C – Aggiornamento – Marzo 2026
DESCRIPTION:
URL:https://confimicremona.it/corso/primo-soccorso-aziende-del-gruppo-b-c-aggiornamento-marzo-2026/
CATEGORIES:Corsi sulla sicurezza
ATTACH;FMTTYPE=image/png:https://confimicremona.it/wp-content/uploads/2026/02/cover-primo-soccorso-aziende-del-gruppo-b-c-aggiornament-1770710337499.png
END:VEVENT
BEGIN:VEVENT
DTSTART;TZID=Europe/Paris:20260324T090000
DTEND;TZID=Europe/Paris:20260324T130000
DTSTAMP:20260422T150049
CREATED:20260318T074522Z
LAST-MODIFIED:20260318T074540Z
UID:5248-1774342800-1774357200@confimicremona.it
SUMMARY:Focus CBAM
DESCRIPTION:
URL:https://confimicremona.it/corso/focus-cbam/
CATEGORIES:Amministrazione, finanza e controllo,Corso in webinar,Export
ATTACH;FMTTYPE=image/png:https://confimicremona.it/wp-content/uploads/2026/03/cover-focus-cbam-1773819736597.png
END:VEVENT
BEGIN:VEVENT
DTSTART;TZID=Europe/Paris:20260324T090000
DTEND;TZID=Europe/Paris:20260324T130000
DTSTAMP:20260422T150049
CREATED:20260227T121141Z
LAST-MODIFIED:20260227T121150Z
UID:4508-1774342800-1774357200@confimicremona.it
SUMMARY:MALATTIA E INFORTUNIO
DESCRIPTION:
URL:https://confimicremona.it/corso/malattia-e-infortunio/
CATEGORIES:Amministrazione, finanza e controllo,Corso in webinar,Gestione risorse umane,Per tutti
ATTACH;FMTTYPE=image/png:https://confimicremona.it/wp-content/uploads/2026/02/cover-1772194260074-31260266.png
END:VEVENT
BEGIN:VEVENT
DTSTART;VALUE=DATE:20260324
DTEND;VALUE=DATE:20260401
DTSTAMP:20260422T150049
CREATED:20251204T231237Z
LAST-MODIFIED:20260205T131914Z
UID:1383-1774310400-1775001599@confimicremona.it
SUMMARY:Il Sistema di Gestione della Qualità: come sfruttare i requisiti della ISO 9001 per fare strategia d’impresa
DESCRIPTION:
URL:https://confimicremona.it/corso/il-sistema-di-gestione-della-qualita-come-sfruttare-i-requisiti-della-iso-9001-per-fare-strategia-dimpresa/
CATEGORIES:Management e strategia
ATTACH;FMTTYPE=image/png:https://confimicremona.it/wp-content/uploads/2025/12/corso-sistema-di-gestione.png
END:VEVENT
BEGIN:VEVENT
DTSTART;VALUE=DATE:20260323
DTEND;VALUE=DATE:20260324
DTSTAMP:20260422T150049
CREATED:20260301T213554Z
LAST-MODIFIED:20260312T173700Z
UID:4951-1774224000-1774310399@confimicremona.it
SUMMARY:CHIUSURE CONTABILI: BILANCIO - COMPETENZA - REDDITI - IVA
DESCRIPTION:CORSO DI FORMAZIONE\, IN PROGRAMMA\nCon le chiusure dei bilanci e la predisposizione dei dichiarativi vengono al nodo temi legati alla corretta contabilizzazione dei fatti amministrativi. Temi\, come quello della competenza\, che spesso si scontra con regole fiscali non perfettamente allineate (c.d. doppio binario) anche se negli ultimi due anni\, con la riforma fiscale\, qualche dicotomia è stata risolta; di questo e di altre criticità legate alla redazione del bilancio si occupano il primo e il terzo modulo. Il secondo modulo\, invece\, è dedicato all’analisi degli opportuni controlli prima della presentazione (a fine aprile) della dichiarazione annuale. \n								 \n\n							Durata del corso: 4 ore a modulo\n					\n								 \n\n							Tipologia webinar\n					\n																														 \nIn collaborazione con Area fiscale Confimi Industria \nIl programma del corso\n1° Lezione @ 23 marzo 2026\nCompetenza ricavi/costi (OIC 34 ) ed errori contabili (OIC 29) \n\nCompetenza ricavi vs competenza servizi\nDerivazione semplice vs derivazione rafforzata (rilevanza fiscale ed eccezioni; differenze fra bilancio sottoposto a revisione legale e non)\nNovità 2025 per la gestione degli errori contabili (OIC 29 e D.Lgs 197/2025)\nAnalisi contratti e individuazione delle c.d. unità elementari contabilizzazione\nDifferenze e punti contatto fra disciplina bilancio/redditi e disciplina Iva\nVendita con servizi inclusi\nContratti complessi (fornitura impianti/realizzazione opere con installazione montaggio)\nLa criticità (ai fini Iva estero) delle vendite “senza consegna”\nVendite con garanzia (ex legge o aggiuntiva)\nVendite con diritto di reso\, consegna differita\, opzione o obbligo di riacquisto\nAltri vendite con corrispettivi variabili (incentivi\, premi\, sconti\, abbuoni\, penalità)\nRimanenze lavori/opere infrannuali e ultrannuali (avvicinamento OIC 23 e regole fiscali)\nContratto per conto terzi (contratto di commissione e mandato senza rappresentanza)\nElencazione recenti chiarimenti/emendamenti OIC\n\n2° Lezione @ 27 marzo 2026\nChiusure e controlli contabilità Iva \n\nMappa collocazione fatture/corrispettivi in LiPe e DAI caso per caso\nI controlli dell’AdE partendo da fatture elettroniche e corrispettivi; nuovo obbligo collegamento POS e RT\nIl punto sulle regole per la detrazione dopo la sentenza T-689/94 (margini per la retro imputazione\, termine finale per liquidazione e dichiarazione annuale)\nGestione note di variazione; la dead line del 30 aprile 2026 per recupero Iva procedure concorsuali 2025\nOperazioni con l’estero\, impatto LiPe\, dichiarazione Iva ed esterometro\nNuove soglie Intrastat (differenza fra acquisti intracomunitari e altri acquisti da non residenti)\nEsportazioni e cessioni intra franco partenza; regolarizzazioni Iva per mancata uscita/arrivo; recupero Iva prova tardiva\nMancato appuramento esportazione e richiesta delle dogane\nFatture irregolari e l’uso appropriato della comunicazione denuncia (TD29); l’errato addebito/applicazione del RC\nControllo dichiarazioni d’intento e plafond; rimedi sforamento e splafonamento\nTardiva fatturazione/auto fatturazione – ravvedimento/rimedi\n\n3° Lezione @ 02 aprile 2026\nGestioni critiche e valutazioni di chiusura bilancio \n\nPerdite su crediti e svalutazioni crediti; regole civilistiche e fiscali a confronto\nContabilizzazione dei piani welfare e premi di risultato\nContabilizzazione investimenti in titoli (BOT\, BTP\, etc.) e partecipazioni\nDerivati di copertura\nCrediti d’imposta e contributi (differenza fra contributo conto esercizio\, conto capitale e conto capitale)\nContabilizzazione degli investimenti in leasing\nContabilizzazione impianto fotovoltaico e impianti complessi (le varie ipotesi)\nAmmortamenti (regole civilistiche e fiscali a confronto)\nIl fondo rischi\nCosti smantellamento e rimozione cespiti\nDifferenze cambi e adeguamento dei crediti/debiti al cambio di fine (le novità del d.lgs 192/2024 per la riserva ex art. 2426 co.1 n. 8-bis cc)\nDisallineamento bilancio / regole fiscali (le principali riprese fiscali; casi di rilevazione della fiscalità differita)\nIl principio di continuità aziendale\nLe principali informazioni particolari da riportare in nota integrativa\nCheck up parametri per verifica obbligo nomina organo di controllo e parametri contabilità di magazzino\n\nLa faculty\nGiovanni\nCommercialista\, revisore legale\, pubblicista \nFrancesco Zuech\nResponsabile fiscale Confimi Industria \nQuando\n1° Lezione @ 23 marzo 20262° Lezione @ 27 marzo 20263° Lezione @ 02 aprile 2026 \nCosto\nIscrizioni aziende associate Confimi Cremona\nIscrizioni ad un singolo modulo: 110€ + IVAIscrizioni a due moduli: 200€ + IVAIscrizioni a tutto il corso: 285€ + IVA \nIscrizioni aziende non associate\nIscrizioni ad un singolo modulo: 160€ + IVAIscrizioni a due moduli: 280€ + IVAIscrizioni a tutto il corso: 390€ + IVA \n								 \n\n							Durata del corso: 4 ore a modulo\n					\nChiusura iscrizioni\n3 giorni prima della data inizio modulo\nIscriviti al corso
URL:https://confimicremona.it/corso/chiusure-contabili-bilancio-competenza-redditi-iva/
CATEGORIES:Amministrazione, finanza e controllo,Corsi speciali
ATTACH;FMTTYPE=image/jpeg:https://confimicremona.it/wp-content/uploads/2026/03/chiusure-aziendali-corso.jpg
END:VEVENT
BEGIN:VEVENT
DTSTART;TZID=Europe/Paris:20260320T090000
DTEND;TZID=Europe/Paris:20260320T170000
DTSTAMP:20260422T150049
CREATED:20260227T121732Z
LAST-MODIFIED:20260227T121739Z
UID:4521-1773997200-1774026000@confimicremona.it
SUMMARY:LINKEDIN PER LA SELEZIONE DEL PERSONALE
DESCRIPTION:
URL:https://confimicremona.it/corso/linkedin-per-la-selezione-del-personale/
CATEGORIES:Corso in webinar,Gestione risorse umane,Marketing, comunicazione e vendite
ATTACH;FMTTYPE=image/png:https://confimicremona.it/wp-content/uploads/2026/02/cover-1772194606200-977402038.png
END:VEVENT
BEGIN:VEVENT
DTSTART;TZID=Europe/Paris:20260312T090000
DTEND;TZID=Europe/Paris:20260315T180000
DTSTAMP:20260422T150049
CREATED:20260206T141830Z
LAST-MODIFIED:20260218T191158Z
UID:4013-1773306000-1773597600@confimicremona.it
SUMMARY:CORSO DI LINGUA INGLESE INTERMEDIO
DESCRIPTION:
URL:https://confimicremona.it/corso/corso-di-lingua-inglese-intermedio/
CATEGORIES:Corso in webinar,Per tutti
ATTACH;FMTTYPE=image/jpeg:https://confimicremona.it/wp-content/uploads/2026/02/cover-1770387257221-405005674.jpg
END:VEVENT
BEGIN:VEVENT
DTSTART;TZID=Europe/Paris:20260312T090000
DTEND;TZID=Europe/Paris:20260312T110000
DTSTAMP:20260422T150049
CREATED:20260227T114555Z
LAST-MODIFIED:20260227T114603Z
UID:4491-1773306000-1773313200@confimicremona.it
SUMMARY:IVA DAY 2026: Novità 2026 e Check up 2025
DESCRIPTION:
URL:https://confimicremona.it/corso/iva-day-2026-novita-2026-e-check-up-2025/
CATEGORIES:Amministrazione, finanza e controllo,Corso in webinar,Management e strategia,Per tutti
ATTACH;FMTTYPE=image/jpeg:https://confimicremona.it/wp-content/uploads/2026/02/cover-1772192694309-433576890-scaled.jpg
END:VEVENT
BEGIN:VEVENT
DTSTART;TZID=Europe/Paris:20260311T090000
DTEND;TZID=Europe/Paris:20260311T100000
DTSTAMP:20260422T150049
CREATED:20260227T113322Z
LAST-MODIFIED:20260227T113331Z
UID:4488-1773219600-1773223200@confimicremona.it
SUMMARY:Google NotebookLM: come risparmiare tempo sui documenti aziendali con l’AI
DESCRIPTION:
URL:https://confimicremona.it/corso/google-notebooklm-come-risparmiare-tempo-sui-documenti-aziendali-con-lai/
CATEGORIES:Acquisti, produzione e logistica,Amministrazione, finanza e controllo,Corso in webinar,Export,Gestione risorse umane,Leadership e Soft Skills,Management e strategia,Marketing, comunicazione e vendite,Per tutti
ATTACH;FMTTYPE=image/jpeg:https://confimicremona.it/wp-content/uploads/2026/02/cover-1772191875975-668922071-scaled.jpg
END:VEVENT
BEGIN:VEVENT
DTSTART;TZID=Europe/Paris:20260310T090000
DTEND;TZID=Europe/Paris:20260310T130000
DTSTAMP:20260422T150049
CREATED:20260227T120650Z
LAST-MODIFIED:20260227T120657Z
UID:4504-1773133200-1773147600@confimicremona.it
SUMMARY:FERIE\, PERMESSI E BANCA ORE
DESCRIPTION:
URL:https://confimicremona.it/corso/ferie-permessi-e-banca-ore/
CATEGORIES:Amministrazione, finanza e controllo,Corso in webinar,Gestione risorse umane,Per tutti
ATTACH;FMTTYPE=image/jpeg:https://confimicremona.it/wp-content/uploads/2026/02/cover-1772193967731-767581000-scaled.jpg
END:VEVENT
BEGIN:VEVENT
DTSTART;TZID=Europe/Paris:20260309T090000
DTEND;TZID=Europe/Paris:20260309T170000
DTSTAMP:20260422T150049
CREATED:20260227T115616Z
LAST-MODIFIED:20260227T115619Z
UID:4485-1773046800-1773075600@confimicremona.it
SUMMARY:MAGAZZINO EFFICIENTE
DESCRIPTION:
URL:https://confimicremona.it/corso/magazzino-efficiente/
CATEGORIES:Acquisti, produzione e logistica,Corso in webinar,Management e strategia
ATTACH;FMTTYPE=image/png:https://confimicremona.it/wp-content/uploads/2026/02/cover-magazzino-efficiente-1772193294035-1.png
END:VEVENT
BEGIN:VEVENT
DTSTART;TZID=Europe/Paris:20260306T090000
DTEND;TZID=Europe/Paris:20260306T110000
DTSTAMP:20260422T150049
CREATED:20260112T145043Z
LAST-MODIFIED:20260224T084212Z
UID:3060-1772787600-1772794800@confimicremona.it
SUMMARY:COME PREPARARSI AL REGOLAMENTO IMBALLAGI (UE 2025/40) OBBLIGHI DI RICICLO\, RIUTILIZZO\, ETICHETTATURA
DESCRIPTION:
URL:https://confimicremona.it/corso/come-prepararsi-al-regolamento-imballagi-ue-2025-40-obblighi-di-riciclo-riutilizzo-etichettatura/
CATEGORIES:Acquisti, produzione e logistica,Amministrazione, finanza e controllo,Corso in webinar,Per tutti
ATTACH;FMTTYPE=image/jpeg:https://confimicremona.it/wp-content/uploads/2026/01/cover-1768229377262-984075178-scaled.jpg
END:VEVENT
BEGIN:VEVENT
DTSTART;TZID=Europe/Paris:20260305T090000
DTEND;TZID=Europe/Paris:20260308T180000
DTSTAMP:20260422T150049
CREATED:20260210T074923Z
LAST-MODIFIED:20260210T074930Z
UID:4139-1772701200-1772992800@confimicremona.it
SUMMARY:RLS – Prima formazione – Marzo 2026
DESCRIPTION:
URL:https://confimicremona.it/corso/rls-prima-formazione-marzo-2026/
CATEGORIES:Corsi sulla sicurezza
ATTACH;FMTTYPE=image/png:https://confimicremona.it/wp-content/uploads/2026/02/cover-rls-prima-formazione-marzo-2026-1770709747851.png
END:VEVENT
BEGIN:VEVENT
DTSTART;TZID=Europe/Paris:20260304T090000
DTEND;TZID=Europe/Paris:20260307T180000
DTSTAMP:20260422T150049
CREATED:20260206T132937Z
LAST-MODIFIED:20260218T191143Z
UID:4010-1772614800-1772906400@confimicremona.it
SUMMARY:CORSO DI LINGUA INGLESE BASE
DESCRIPTION:
URL:https://confimicremona.it/corso/corso-di-lingua-inglese-base/
CATEGORIES:Corso in webinar,Per tutti
ATTACH;FMTTYPE=image/jpeg:https://confimicremona.it/wp-content/uploads/2026/02/cover-1770384477872-351140623.jpg
END:VEVENT
BEGIN:VEVENT
DTSTART;TZID=Europe/Paris:20260304T090000
DTEND;TZID=Europe/Paris:20260305T180000
DTSTAMP:20260422T150049
CREATED:20260209T160428Z
LAST-MODIFIED:20260209T160437Z
UID:4111-1772614800-1772733600@confimicremona.it
SUMMARY:Primo Soccorso aziende del gruppo B-C – Prima formazione – Marzo 2026
DESCRIPTION:
URL:https://confimicremona.it/corso/primo-soccorso-aziende-del-gruppo-b-c-prima-formazione-marzo-2026-2/
CATEGORIES:Corsi sulla sicurezza
ATTACH;FMTTYPE=image/png:https://confimicremona.it/wp-content/uploads/2026/02/cover-primo-soccorso-aziende-del-gruppo-b-c-prima-formaz-1770653049056.png
END:VEVENT
BEGIN:VEVENT
DTSTART;TZID=Europe/Paris:20260304T090000
DTEND;TZID=Europe/Paris:20260305T180000
DTSTAMP:20260422T150049
CREATED:20260209T155922Z
LAST-MODIFIED:20260209T155931Z
UID:4108-1772614800-1772733600@confimicremona.it
SUMMARY:Primo Soccorso aziende del gruppo A – Prima formazione – Marzo 2026
DESCRIPTION:
URL:https://confimicremona.it/corso/primo-soccorso-aziende-del-gruppo-a-prima-formazione-marzo-2026-2/
CATEGORIES:Corsi sulla sicurezza
ATTACH;FMTTYPE=image/png:https://confimicremona.it/wp-content/uploads/2026/02/cover-primo-soccorso-aziende-del-gruppo-a-prima-formazio-1770652745487.png
END:VEVENT
END:VCALENDAR