BEGIN:VCALENDAR
VERSION:2.0
PRODID:-//Confimi Industria Cremona - ECPv6.15.20//NONSGML v1.0//EN
CALSCALE:GREGORIAN
METHOD:PUBLISH
X-ORIGINAL-URL:https://confimicremona.it
X-WR-CALDESC:Eventi per Confimi Industria Cremona
REFRESH-INTERVAL;VALUE=DURATION:PT1H
X-Robots-Tag:noindex
X-PUBLISHED-TTL:PT1H
BEGIN:VTIMEZONE
TZID:Europe/Paris
BEGIN:DAYLIGHT
TZOFFSETFROM:+0100
TZOFFSETTO:+0200
TZNAME:CEST
DTSTART:20250330T010000
END:DAYLIGHT
BEGIN:STANDARD
TZOFFSETFROM:+0200
TZOFFSETTO:+0100
TZNAME:CET
DTSTART:20251026T010000
END:STANDARD
BEGIN:DAYLIGHT
TZOFFSETFROM:+0100
TZOFFSETTO:+0200
TZNAME:CEST
DTSTART:20260329T010000
END:DAYLIGHT
BEGIN:STANDARD
TZOFFSETFROM:+0200
TZOFFSETTO:+0100
TZNAME:CET
DTSTART:20261025T010000
END:STANDARD
BEGIN:DAYLIGHT
TZOFFSETFROM:+0100
TZOFFSETTO:+0200
TZNAME:CEST
DTSTART:20270328T010000
END:DAYLIGHT
BEGIN:STANDARD
TZOFFSETFROM:+0200
TZOFFSETTO:+0100
TZNAME:CET
DTSTART:20271031T010000
END:STANDARD
END:VTIMEZONE
BEGIN:VEVENT
DTSTART;VALUE=DATE:20260211
DTEND;VALUE=DATE:20260212
DTSTAMP:20260424T195410
CREATED:20260112T144307Z
LAST-MODIFIED:20260114T100501Z
UID:3221-1770768000-1770854399@confimicremona.it
SUMMARY:Carrelli elevatori: Aggiornamento – Febbraio 2026
DESCRIPTION:
URL:https://confimicremona.it/corso/carrelli-elevatori-aggiornamento-febbraio-2026/
CATEGORIES:Corsi sulla sicurezza
ATTACH;FMTTYPE=image/jpeg:https://confimicremona.it/wp-content/uploads/2026/01/cover-1768228678415-648782834.jpeg
END:VEVENT
BEGIN:VEVENT
DTSTART;TZID=Europe/Paris:20260217T090000
DTEND;TZID=Europe/Paris:20260217T110000
DTSTAMP:20260424T195410
CREATED:20260209T162801Z
LAST-MODIFIED:20260209T162808Z
UID:4129-1771318800-1771326000@confimicremona.it
SUMMARY:Antincendio – Aggiornamento addetti Liv.1 – Febbraio 2026
DESCRIPTION:
URL:https://confimicremona.it/corso/antincendio-aggiornamento-addetti-liv-1-febbraio-2026/
CATEGORIES:Corsi sulla sicurezza
ATTACH;FMTTYPE=image/png:https://confimicremona.it/wp-content/uploads/2026/02/cover-antincendio-aggiornamento-addetti-liv-1-febbraio-2-1770654455309.png
END:VEVENT
BEGIN:VEVENT
DTSTART;TZID=Europe/Paris:20260217T090000
DTEND;TZID=Europe/Paris:20260217T130000
DTSTAMP:20260424T195410
CREATED:20260209T162034Z
LAST-MODIFIED:20260209T162041Z
UID:4123-1771318800-1771333200@confimicremona.it
SUMMARY:Antincendio – Nuovi addetti Liv.1 – Febbraio 2026
DESCRIPTION:
URL:https://confimicremona.it/corso/antincendio-nuovi-addetti-liv-1-febbraio-2026/
CATEGORIES:Corsi sulla sicurezza
ATTACH;FMTTYPE=image/png:https://confimicremona.it/wp-content/uploads/2026/02/cover-antincendio-nuovi-addetti-liv-1-febbraio-2026-1770654021021.png
END:VEVENT
BEGIN:VEVENT
DTSTART;TZID=Europe/Paris:20260217T090000
DTEND;TZID=Europe/Paris:20260217T140000
DTSTAMP:20260424T195410
CREATED:20260209T162349Z
LAST-MODIFIED:20260209T162356Z
UID:4126-1771318800-1771336800@confimicremona.it
SUMMARY:Antincendio – Aggiornamento addetti Liv.2 – Febbraio 2026
DESCRIPTION:
URL:https://confimicremona.it/corso/antincendio-aggiornamento-addetti-liv-2-febbraio-2026/
CATEGORIES:Corsi sulla sicurezza
ATTACH;FMTTYPE=image/png:https://confimicremona.it/wp-content/uploads/2026/02/cover-antincendio-aggiornamento-addetti-liv-2-febbraio-2-1770654215695.png
END:VEVENT
BEGIN:VEVENT
DTSTART;TZID=Europe/Paris:20260217T090000
DTEND;TZID=Europe/Paris:20260217T170000
DTSTAMP:20260424T195410
CREATED:20260209T161730Z
LAST-MODIFIED:20260209T161736Z
UID:4120-1771318800-1771347600@confimicremona.it
SUMMARY:Antincendio – Nuovi addetti Liv.2 – Febbraio 2026
DESCRIPTION:
URL:https://confimicremona.it/corso/antincendio-nuovi-addetti-liv-2-febbraio-2026/
CATEGORIES:Corsi sulla sicurezza
ATTACH;FMTTYPE=image/png:https://confimicremona.it/wp-content/uploads/2026/02/cover-antincendio-nuovi-addetti-liv-2-febbraio-2026-1770653827251.png
END:VEVENT
BEGIN:VEVENT
DTSTART;VALUE=DATE:20260219
DTEND;VALUE=DATE:20260221
DTSTAMP:20260424T195410
CREATED:20260209T163219Z
LAST-MODIFIED:20260218T085603Z
UID:4132-1771459200-1771631999@confimicremona.it
SUMMARY:Preposti – Prima formazione – Febbraio 2026
DESCRIPTION:
URL:https://confimicremona.it/corso/preposti-prima-formazione-febbraio-2026/
CATEGORIES:Corsi sulla sicurezza
ATTACH;FMTTYPE=image/png:https://confimicremona.it/wp-content/uploads/2026/02/cover-preposti-prima-formazione-febbraio-2026-1770654674703.png
END:VEVENT
BEGIN:VEVENT
DTSTART;TZID=Europe/Paris:20260219T090000
DTEND;TZID=Europe/Paris:20260219T110000
DTSTAMP:20260424T195410
CREATED:20260205T120937Z
LAST-MODIFIED:20260218T181848Z
UID:3991-1771491600-1771498800@confimicremona.it
SUMMARY:ORIGINE PREFERENZIALE  E NON PREFERENZIALE
DESCRIPTION:
URL:https://confimicremona.it/corso/origine-preferenziale-e-non-preferenziale/
CATEGORIES:Acquisti, produzione e logistica,Amministrazione, finanza e controllo,Corso in webinar,Export
ATTACH;FMTTYPE=image/jpeg:https://confimicremona.it/wp-content/uploads/2026/02/cover-1770293279353-981435717-scaled.jpg
END:VEVENT
BEGIN:VEVENT
DTSTART;TZID=Europe/Paris:20260220T090000
DTEND;TZID=Europe/Paris:20260220T110000
DTSTAMP:20260424T195410
CREATED:20260212T130906Z
LAST-MODIFIED:20260218T182304Z
UID:4172-1771578000-1771585200@confimicremona.it
SUMMARY:BENEFIT 2026
DESCRIPTION:
URL:https://confimicremona.it/corso/benefit-2026/
CATEGORIES:Amministrazione, finanza e controllo,Corso in webinar,Gestione risorse umane,Per tutti
ATTACH;FMTTYPE=image/jpeg:https://confimicremona.it/wp-content/uploads/2026/02/cover-1770901664601-560080800-scaled.jpg
END:VEVENT
BEGIN:VEVENT
DTSTART;TZID=Europe/Paris:20260224T000000
DTEND;TZID=Europe/Paris:20260224T000000
DTSTAMP:20260424T195410
CREATED:20260216T085316Z
LAST-MODIFIED:20260218T191124Z
UID:4180-1771891200-1771891200@confimicremona.it
SUMMARY:NORMATIVA SULL’ORARIO DI LAVORO
DESCRIPTION:
URL:https://confimicremona.it/corso/normativa-sullorario-di-lavoro/
CATEGORIES:Corso in webinar,Gestione risorse umane,Management e strategia,Per tutti
ATTACH;FMTTYPE=image/jpeg:https://confimicremona.it/wp-content/uploads/2026/02/informativa-orario-di-lavoro.jpg
END:VEVENT
BEGIN:VEVENT
DTSTART;TZID=Europe/Paris:20260224T090000
DTEND;TZID=Europe/Paris:20260225T180000
DTSTAMP:20260424T195410
CREATED:20260209T163653Z
LAST-MODIFIED:20260209T163700Z
UID:4135-1771923600-1772042400@confimicremona.it
SUMMARY:Carrelli elevatori: Madignano – Prima formazione – Febbraio 2026
DESCRIPTION:
URL:https://confimicremona.it/corso/carrelli-elevatori-madignano-prima-formazione-febbraio-2026/
CATEGORIES:Corsi sulla sicurezza
ATTACH;FMTTYPE=image/png:https://confimicremona.it/wp-content/uploads/2026/02/cover-carrelli-elevatori-madignano-prima-formazione-febb-1770655000296.png
END:VEVENT
BEGIN:VEVENT
DTSTART;TZID=Europe/Paris:20260225T000000
DTEND;TZID=Europe/Paris:20260225T000000
DTSTAMP:20260424T195410
CREATED:20260216T085248Z
LAST-MODIFIED:20260218T191128Z
UID:4183-1771977600-1771977600@confimicremona.it
SUMMARY:Individuare il candidato giusto
DESCRIPTION:
URL:https://confimicremona.it/corso/individuare-il-candidato-giusto/
CATEGORIES:Corso in webinar,Gestione risorse umane,Leadership e Soft Skills,Per tutti
ATTACH;FMTTYPE=image/jpeg:https://confimicremona.it/wp-content/uploads/2026/02/candidato-corso-come-trovarlo.jpg
END:VEVENT
BEGIN:VEVENT
DTSTART;TZID=Europe/Paris:20260227T000000
DTEND;TZID=Europe/Paris:20260227T000000
DTSTAMP:20260424T195410
CREATED:20260216T085210Z
LAST-MODIFIED:20260218T191135Z
UID:4186-1772150400-1772150400@confimicremona.it
SUMMARY:La Cina che cambia: tra nuove regole e opportunità di mercato
DESCRIPTION:
URL:https://confimicremona.it/corso/la-cina-che-cambia-tra-nuove-regole-e-opportunita-di-mercato/
CATEGORIES:Acquisti, produzione e logistica,Corso in webinar,Export,Management e strategia,Marketing, comunicazione e vendite
ATTACH;FMTTYPE=image/jpeg:https://confimicremona.it/wp-content/uploads/2026/02/la-cina-cambia-corso.jpg
END:VEVENT
BEGIN:VEVENT
DTSTART;TZID=Europe/Paris:20260227T090000
DTEND;TZID=Europe/Paris:20260227T130000
DTSTAMP:20260424T195410
CREATED:20260209T153824Z
LAST-MODIFIED:20260209T154639Z
UID:4098-1772182800-1772197200@confimicremona.it
SUMMARY:RLS – Aggiornamento aziende con meno di 50 dipendenti – Febbraio 2026
DESCRIPTION:
URL:https://confimicremona.it/corso/rls-aggiornamento-aziende-con-meno-di-50-dipendenti-febbraio-2026-2/
CATEGORIES:Corsi sulla sicurezza
ATTACH;FMTTYPE=image/png:https://confimicremona.it/wp-content/uploads/2026/02/cover-rls-aggiornamento-aziende-con-meno-di-50-dipendent-1770651463893.png
END:VEVENT
BEGIN:VEVENT
DTSTART;TZID=Europe/Paris:20260227T090000
DTEND;TZID=Europe/Paris:20260227T170000
DTSTAMP:20260424T195410
CREATED:20260209T154721Z
LAST-MODIFIED:20260209T154730Z
UID:4102-1772182800-1772211600@confimicremona.it
SUMMARY:RLS – Aggiornamento aziende con più di 50 dipendenti – Febbraio 2026
DESCRIPTION:
URL:https://confimicremona.it/corso/rls-aggiornamento-aziende-con-piu-di-50-dipendenti-febbraio-2026-2/
CATEGORIES:Corsi sulla sicurezza
ATTACH;FMTTYPE=image/png:https://confimicremona.it/wp-content/uploads/2026/02/cover-rls-aggiornamento-aziende-con-pi-di-50-dipendenti-1770652027434.png
END:VEVENT
BEGIN:VEVENT
DTSTART;VALUE=DATE:20260303
DTEND;VALUE=DATE:20260304
DTSTAMP:20260424T195410
CREATED:20260209T161350Z
LAST-MODIFIED:20260218T085047Z
UID:4117-1772496000-1772582399@confimicremona.it
SUMMARY:Preposti – Aggiornamento – Marzo 2026
DESCRIPTION:
URL:https://confimicremona.it/corso/preposti-aggiornamento-marzo-2026/
CATEGORIES:Corsi sulla sicurezza
ATTACH;FMTTYPE=image/png:https://confimicremona.it/wp-content/uploads/2026/02/cover-preposti-aggiornamento-febbraio-2026-1770653613292.png
END:VEVENT
BEGIN:VEVENT
DTSTART;TZID=Europe/Paris:20260303T090000
DTEND;TZID=Europe/Paris:20260303T130000
DTSTAMP:20260424T195410
CREATED:20260209T155451Z
LAST-MODIFIED:20260209T155458Z
UID:4105-1772528400-1772542800@confimicremona.it
SUMMARY:Carrelli elevatori: Madignano – Aggiornamento – Marzo 2026
DESCRIPTION:
URL:https://confimicremona.it/corso/carrelli-elevatori-madignano-aggiornamento-marzo-2026-2/
CATEGORIES:Corsi sulla sicurezza
ATTACH;FMTTYPE=image/png:https://confimicremona.it/wp-content/uploads/2026/02/cover-carrelli-elevatori-madignano-aggiornamento-marzo-2-1770652472223.png
END:VEVENT
BEGIN:VEVENT
DTSTART;TZID=Europe/Paris:20260304T090000
DTEND;TZID=Europe/Paris:20260304T150000
DTSTAMP:20260424T195410
CREATED:20260209T160750Z
LAST-MODIFIED:20260209T160756Z
UID:4114-1772614800-1772636400@confimicremona.it
SUMMARY:Primo Soccorso aziende del gruppo A – Aggiornamento – Marzo 2026
DESCRIPTION:
URL:https://confimicremona.it/corso/primo-soccorso-aziende-del-gruppo-a-aggiornamento-marzo-2026/
CATEGORIES:Corsi sulla sicurezza
ATTACH;FMTTYPE=image/png:https://confimicremona.it/wp-content/uploads/2026/02/cover-primo-soccorso-aziende-del-gruppo-a-aggiornamento-1770653255639.png
END:VEVENT
BEGIN:VEVENT
DTSTART;TZID=Europe/Paris:20260304T090000
DTEND;TZID=Europe/Paris:20260305T180000
DTSTAMP:20260424T195410
CREATED:20260209T155922Z
LAST-MODIFIED:20260209T155931Z
UID:4108-1772614800-1772733600@confimicremona.it
SUMMARY:Primo Soccorso aziende del gruppo A – Prima formazione – Marzo 2026
DESCRIPTION:
URL:https://confimicremona.it/corso/primo-soccorso-aziende-del-gruppo-a-prima-formazione-marzo-2026-2/
CATEGORIES:Corsi sulla sicurezza
ATTACH;FMTTYPE=image/png:https://confimicremona.it/wp-content/uploads/2026/02/cover-primo-soccorso-aziende-del-gruppo-a-prima-formazio-1770652745487.png
END:VEVENT
BEGIN:VEVENT
DTSTART;TZID=Europe/Paris:20260304T090000
DTEND;TZID=Europe/Paris:20260305T180000
DTSTAMP:20260424T195410
CREATED:20260209T160428Z
LAST-MODIFIED:20260209T160437Z
UID:4111-1772614800-1772733600@confimicremona.it
SUMMARY:Primo Soccorso aziende del gruppo B-C – Prima formazione – Marzo 2026
DESCRIPTION:
URL:https://confimicremona.it/corso/primo-soccorso-aziende-del-gruppo-b-c-prima-formazione-marzo-2026-2/
CATEGORIES:Corsi sulla sicurezza
ATTACH;FMTTYPE=image/png:https://confimicremona.it/wp-content/uploads/2026/02/cover-primo-soccorso-aziende-del-gruppo-b-c-prima-formaz-1770653049056.png
END:VEVENT
BEGIN:VEVENT
DTSTART;TZID=Europe/Paris:20260304T090000
DTEND;TZID=Europe/Paris:20260307T180000
DTSTAMP:20260424T195410
CREATED:20260206T132937Z
LAST-MODIFIED:20260218T191143Z
UID:4010-1772614800-1772906400@confimicremona.it
SUMMARY:CORSO DI LINGUA INGLESE BASE
DESCRIPTION:
URL:https://confimicremona.it/corso/corso-di-lingua-inglese-base/
CATEGORIES:Corso in webinar,Per tutti
ATTACH;FMTTYPE=image/jpeg:https://confimicremona.it/wp-content/uploads/2026/02/cover-1770384477872-351140623.jpg
END:VEVENT
BEGIN:VEVENT
DTSTART;TZID=Europe/Paris:20260305T090000
DTEND;TZID=Europe/Paris:20260308T180000
DTSTAMP:20260424T195410
CREATED:20260210T074923Z
LAST-MODIFIED:20260210T074930Z
UID:4139-1772701200-1772992800@confimicremona.it
SUMMARY:RLS – Prima formazione – Marzo 2026
DESCRIPTION:
URL:https://confimicremona.it/corso/rls-prima-formazione-marzo-2026/
CATEGORIES:Corsi sulla sicurezza
ATTACH;FMTTYPE=image/png:https://confimicremona.it/wp-content/uploads/2026/02/cover-rls-prima-formazione-marzo-2026-1770709747851.png
END:VEVENT
BEGIN:VEVENT
DTSTART;TZID=Europe/Paris:20260306T090000
DTEND;TZID=Europe/Paris:20260306T110000
DTSTAMP:20260424T195410
CREATED:20260112T145043Z
LAST-MODIFIED:20260224T084212Z
UID:3060-1772787600-1772794800@confimicremona.it
SUMMARY:COME PREPARARSI AL REGOLAMENTO IMBALLAGI (UE 2025/40) OBBLIGHI DI RICICLO\, RIUTILIZZO\, ETICHETTATURA
DESCRIPTION:
URL:https://confimicremona.it/corso/come-prepararsi-al-regolamento-imballagi-ue-2025-40-obblighi-di-riciclo-riutilizzo-etichettatura/
CATEGORIES:Acquisti, produzione e logistica,Amministrazione, finanza e controllo,Corso in webinar,Per tutti
ATTACH;FMTTYPE=image/jpeg:https://confimicremona.it/wp-content/uploads/2026/01/cover-1768229377262-984075178-scaled.jpg
END:VEVENT
BEGIN:VEVENT
DTSTART;TZID=Europe/Paris:20260309T090000
DTEND;TZID=Europe/Paris:20260309T170000
DTSTAMP:20260424T195410
CREATED:20260227T115616Z
LAST-MODIFIED:20260227T115619Z
UID:4485-1773046800-1773075600@confimicremona.it
SUMMARY:MAGAZZINO EFFICIENTE
DESCRIPTION:
URL:https://confimicremona.it/corso/magazzino-efficiente/
CATEGORIES:Acquisti, produzione e logistica,Corso in webinar,Management e strategia
ATTACH;FMTTYPE=image/png:https://confimicremona.it/wp-content/uploads/2026/02/cover-magazzino-efficiente-1772193294035-1.png
END:VEVENT
BEGIN:VEVENT
DTSTART;TZID=Europe/Paris:20260310T090000
DTEND;TZID=Europe/Paris:20260310T130000
DTSTAMP:20260424T195410
CREATED:20260227T120650Z
LAST-MODIFIED:20260227T120657Z
UID:4504-1773133200-1773147600@confimicremona.it
SUMMARY:FERIE\, PERMESSI E BANCA ORE
DESCRIPTION:
URL:https://confimicremona.it/corso/ferie-permessi-e-banca-ore/
CATEGORIES:Amministrazione, finanza e controllo,Corso in webinar,Gestione risorse umane,Per tutti
ATTACH;FMTTYPE=image/jpeg:https://confimicremona.it/wp-content/uploads/2026/02/cover-1772193967731-767581000-scaled.jpg
END:VEVENT
BEGIN:VEVENT
DTSTART;TZID=Europe/Paris:20260311T090000
DTEND;TZID=Europe/Paris:20260311T100000
DTSTAMP:20260424T195410
CREATED:20260227T113322Z
LAST-MODIFIED:20260227T113331Z
UID:4488-1773219600-1773223200@confimicremona.it
SUMMARY:Google NotebookLM: come risparmiare tempo sui documenti aziendali con l’AI
DESCRIPTION:
URL:https://confimicremona.it/corso/google-notebooklm-come-risparmiare-tempo-sui-documenti-aziendali-con-lai/
CATEGORIES:Acquisti, produzione e logistica,Amministrazione, finanza e controllo,Corso in webinar,Export,Gestione risorse umane,Leadership e Soft Skills,Management e strategia,Marketing, comunicazione e vendite,Per tutti
ATTACH;FMTTYPE=image/jpeg:https://confimicremona.it/wp-content/uploads/2026/02/cover-1772191875975-668922071-scaled.jpg
END:VEVENT
BEGIN:VEVENT
DTSTART;TZID=Europe/Paris:20260312T090000
DTEND;TZID=Europe/Paris:20260312T110000
DTSTAMP:20260424T195410
CREATED:20260227T114555Z
LAST-MODIFIED:20260227T114603Z
UID:4491-1773306000-1773313200@confimicremona.it
SUMMARY:IVA DAY 2026: Novità 2026 e Check up 2025
DESCRIPTION:
URL:https://confimicremona.it/corso/iva-day-2026-novita-2026-e-check-up-2025/
CATEGORIES:Amministrazione, finanza e controllo,Corso in webinar,Management e strategia,Per tutti
ATTACH;FMTTYPE=image/jpeg:https://confimicremona.it/wp-content/uploads/2026/02/cover-1772192694309-433576890-scaled.jpg
END:VEVENT
BEGIN:VEVENT
DTSTART;TZID=Europe/Paris:20260312T090000
DTEND;TZID=Europe/Paris:20260315T180000
DTSTAMP:20260424T195410
CREATED:20260206T141830Z
LAST-MODIFIED:20260218T191158Z
UID:4013-1773306000-1773597600@confimicremona.it
SUMMARY:CORSO DI LINGUA INGLESE INTERMEDIO
DESCRIPTION:
URL:https://confimicremona.it/corso/corso-di-lingua-inglese-intermedio/
CATEGORIES:Corso in webinar,Per tutti
ATTACH;FMTTYPE=image/jpeg:https://confimicremona.it/wp-content/uploads/2026/02/cover-1770387257221-405005674.jpg
END:VEVENT
BEGIN:VEVENT
DTSTART;TZID=Europe/Paris:20260320T090000
DTEND;TZID=Europe/Paris:20260320T170000
DTSTAMP:20260424T195410
CREATED:20260227T121732Z
LAST-MODIFIED:20260227T121739Z
UID:4521-1773997200-1774026000@confimicremona.it
SUMMARY:LINKEDIN PER LA SELEZIONE DEL PERSONALE
DESCRIPTION:
URL:https://confimicremona.it/corso/linkedin-per-la-selezione-del-personale/
CATEGORIES:Corso in webinar,Gestione risorse umane,Marketing, comunicazione e vendite
ATTACH;FMTTYPE=image/png:https://confimicremona.it/wp-content/uploads/2026/02/cover-1772194606200-977402038.png
END:VEVENT
BEGIN:VEVENT
DTSTART;VALUE=DATE:20260323
DTEND;VALUE=DATE:20260324
DTSTAMP:20260424T195410
CREATED:20260301T213554Z
LAST-MODIFIED:20260312T173700Z
UID:4951-1774224000-1774310399@confimicremona.it
SUMMARY:CHIUSURE CONTABILI: BILANCIO - COMPETENZA - REDDITI - IVA
DESCRIPTION:CORSO DI FORMAZIONE\, IN PROGRAMMA\nCon le chiusure dei bilanci e la predisposizione dei dichiarativi vengono al nodo temi legati alla corretta contabilizzazione dei fatti amministrativi. Temi\, come quello della competenza\, che spesso si scontra con regole fiscali non perfettamente allineate (c.d. doppio binario) anche se negli ultimi due anni\, con la riforma fiscale\, qualche dicotomia è stata risolta; di questo e di altre criticità legate alla redazione del bilancio si occupano il primo e il terzo modulo. Il secondo modulo\, invece\, è dedicato all’analisi degli opportuni controlli prima della presentazione (a fine aprile) della dichiarazione annuale. \n								 \n\n							Durata del corso: 4 ore a modulo\n					\n								 \n\n							Tipologia webinar\n					\n																														 \nIn collaborazione con Area fiscale Confimi Industria \nIl programma del corso\n1° Lezione @ 23 marzo 2026\nCompetenza ricavi/costi (OIC 34 ) ed errori contabili (OIC 29) \n\nCompetenza ricavi vs competenza servizi\nDerivazione semplice vs derivazione rafforzata (rilevanza fiscale ed eccezioni; differenze fra bilancio sottoposto a revisione legale e non)\nNovità 2025 per la gestione degli errori contabili (OIC 29 e D.Lgs 197/2025)\nAnalisi contratti e individuazione delle c.d. unità elementari contabilizzazione\nDifferenze e punti contatto fra disciplina bilancio/redditi e disciplina Iva\nVendita con servizi inclusi\nContratti complessi (fornitura impianti/realizzazione opere con installazione montaggio)\nLa criticità (ai fini Iva estero) delle vendite “senza consegna”\nVendite con garanzia (ex legge o aggiuntiva)\nVendite con diritto di reso\, consegna differita\, opzione o obbligo di riacquisto\nAltri vendite con corrispettivi variabili (incentivi\, premi\, sconti\, abbuoni\, penalità)\nRimanenze lavori/opere infrannuali e ultrannuali (avvicinamento OIC 23 e regole fiscali)\nContratto per conto terzi (contratto di commissione e mandato senza rappresentanza)\nElencazione recenti chiarimenti/emendamenti OIC\n\n2° Lezione @ 27 marzo 2026\nChiusure e controlli contabilità Iva \n\nMappa collocazione fatture/corrispettivi in LiPe e DAI caso per caso\nI controlli dell’AdE partendo da fatture elettroniche e corrispettivi; nuovo obbligo collegamento POS e RT\nIl punto sulle regole per la detrazione dopo la sentenza T-689/94 (margini per la retro imputazione\, termine finale per liquidazione e dichiarazione annuale)\nGestione note di variazione; la dead line del 30 aprile 2026 per recupero Iva procedure concorsuali 2025\nOperazioni con l’estero\, impatto LiPe\, dichiarazione Iva ed esterometro\nNuove soglie Intrastat (differenza fra acquisti intracomunitari e altri acquisti da non residenti)\nEsportazioni e cessioni intra franco partenza; regolarizzazioni Iva per mancata uscita/arrivo; recupero Iva prova tardiva\nMancato appuramento esportazione e richiesta delle dogane\nFatture irregolari e l’uso appropriato della comunicazione denuncia (TD29); l’errato addebito/applicazione del RC\nControllo dichiarazioni d’intento e plafond; rimedi sforamento e splafonamento\nTardiva fatturazione/auto fatturazione – ravvedimento/rimedi\n\n3° Lezione @ 02 aprile 2026\nGestioni critiche e valutazioni di chiusura bilancio \n\nPerdite su crediti e svalutazioni crediti; regole civilistiche e fiscali a confronto\nContabilizzazione dei piani welfare e premi di risultato\nContabilizzazione investimenti in titoli (BOT\, BTP\, etc.) e partecipazioni\nDerivati di copertura\nCrediti d’imposta e contributi (differenza fra contributo conto esercizio\, conto capitale e conto capitale)\nContabilizzazione degli investimenti in leasing\nContabilizzazione impianto fotovoltaico e impianti complessi (le varie ipotesi)\nAmmortamenti (regole civilistiche e fiscali a confronto)\nIl fondo rischi\nCosti smantellamento e rimozione cespiti\nDifferenze cambi e adeguamento dei crediti/debiti al cambio di fine (le novità del d.lgs 192/2024 per la riserva ex art. 2426 co.1 n. 8-bis cc)\nDisallineamento bilancio / regole fiscali (le principali riprese fiscali; casi di rilevazione della fiscalità differita)\nIl principio di continuità aziendale\nLe principali informazioni particolari da riportare in nota integrativa\nCheck up parametri per verifica obbligo nomina organo di controllo e parametri contabilità di magazzino\n\nLa faculty\nGiovanni\nCommercialista\, revisore legale\, pubblicista \nFrancesco Zuech\nResponsabile fiscale Confimi Industria \nQuando\n1° Lezione @ 23 marzo 20262° Lezione @ 27 marzo 20263° Lezione @ 02 aprile 2026 \nCosto\nIscrizioni aziende associate Confimi Cremona\nIscrizioni ad un singolo modulo: 110€ + IVAIscrizioni a due moduli: 200€ + IVAIscrizioni a tutto il corso: 285€ + IVA \nIscrizioni aziende non associate\nIscrizioni ad un singolo modulo: 160€ + IVAIscrizioni a due moduli: 280€ + IVAIscrizioni a tutto il corso: 390€ + IVA \n								 \n\n							Durata del corso: 4 ore a modulo\n					\nChiusura iscrizioni\n3 giorni prima della data inizio modulo\nIscriviti al corso
URL:https://confimicremona.it/corso/chiusure-contabili-bilancio-competenza-redditi-iva/
CATEGORIES:Amministrazione, finanza e controllo,Corsi speciali
ATTACH;FMTTYPE=image/jpeg:https://confimicremona.it/wp-content/uploads/2026/03/chiusure-aziendali-corso.jpg
END:VEVENT
BEGIN:VEVENT
DTSTART;VALUE=DATE:20260324
DTEND;VALUE=DATE:20260401
DTSTAMP:20260424T195410
CREATED:20251204T231237Z
LAST-MODIFIED:20260205T131914Z
UID:1383-1774310400-1775001599@confimicremona.it
SUMMARY:Il Sistema di Gestione della Qualità: come sfruttare i requisiti della ISO 9001 per fare strategia d’impresa
DESCRIPTION:
URL:https://confimicremona.it/corso/il-sistema-di-gestione-della-qualita-come-sfruttare-i-requisiti-della-iso-9001-per-fare-strategia-dimpresa/
CATEGORIES:Management e strategia
ATTACH;FMTTYPE=image/png:https://confimicremona.it/wp-content/uploads/2025/12/corso-sistema-di-gestione.png
END:VEVENT
END:VCALENDAR