BEGIN:VCALENDAR
VERSION:2.0
PRODID:-//Confimi Industria Cremona - ECPv6.15.20//NONSGML v1.0//EN
CALSCALE:GREGORIAN
METHOD:PUBLISH
X-ORIGINAL-URL:https://confimicremona.it
X-WR-CALDESC:Eventi per Confimi Industria Cremona
REFRESH-INTERVAL;VALUE=DURATION:PT1H
X-Robots-Tag:noindex
X-PUBLISHED-TTL:PT1H
BEGIN:VTIMEZONE
TZID:Europe/Paris
BEGIN:DAYLIGHT
TZOFFSETFROM:+0100
TZOFFSETTO:+0200
TZNAME:CEST
DTSTART:20250330T010000
END:DAYLIGHT
BEGIN:STANDARD
TZOFFSETFROM:+0200
TZOFFSETTO:+0100
TZNAME:CET
DTSTART:20251026T010000
END:STANDARD
BEGIN:DAYLIGHT
TZOFFSETFROM:+0100
TZOFFSETTO:+0200
TZNAME:CEST
DTSTART:20260329T010000
END:DAYLIGHT
BEGIN:STANDARD
TZOFFSETFROM:+0200
TZOFFSETTO:+0100
TZNAME:CET
DTSTART:20261025T010000
END:STANDARD
BEGIN:DAYLIGHT
TZOFFSETFROM:+0100
TZOFFSETTO:+0200
TZNAME:CEST
DTSTART:20270328T010000
END:DAYLIGHT
BEGIN:STANDARD
TZOFFSETFROM:+0200
TZOFFSETTO:+0100
TZNAME:CET
DTSTART:20271031T010000
END:STANDARD
END:VTIMEZONE
BEGIN:VEVENT
DTSTART;TZID=Europe/Paris:20260529T090000
DTEND;TZID=Europe/Paris:20260529T130000
DTSTAMP:20260424T161551
CREATED:20260401T134853Z
LAST-MODIFIED:20260401T134901Z
UID:5292-1780045200-1780059600@confimicremona.it
SUMMARY:Sicurezza Lavoratori – Parte Generale Maggio 2026
DESCRIPTION:
URL:https://confimicremona.it/corso/sicurezza-lavoratori-parte-generale-maggio-2026-2/
CATEGORIES:Corsi sulla sicurezza
ATTACH;FMTTYPE=image/png:https://confimicremona.it/wp-content/uploads/2026/04/cover-sicurezza-lavoratori-parte-generale-maggio-2026-1775049419989.png
END:VEVENT
BEGIN:VEVENT
DTSTART;TZID=Europe/Paris:20260529T090000
DTEND;TZID=Europe/Paris:20260529T130000
DTSTAMP:20260424T161551
CREATED:20260401T135403Z
LAST-MODIFIED:20260401T135412Z
UID:5295-1780045200-1780059600@confimicremona.it
SUMMARY:Sicurezza Lavoratori – Parte specifica rischio basso - Maggio 2026
DESCRIPTION:
URL:https://confimicremona.it/corso/sicurezza-lavoratori-parte-specifica-rischio-basso-maggio-2026/
CATEGORIES:Corsi sulla sicurezza
ATTACH;FMTTYPE=image/png:https://confimicremona.it/wp-content/uploads/2026/04/cover-sicurezza-lavoratori-parte-specifica-rischio-basso-1775051595621.png
END:VEVENT
BEGIN:VEVENT
DTSTART;TZID=Europe/Paris:20260529T090000
DTEND;TZID=Europe/Paris:20260529T150000
DTSTAMP:20260424T161551
CREATED:20260401T140939Z
LAST-MODIFIED:20260409T101218Z
UID:5313-1780045200-1780066800@confimicremona.it
SUMMARY:Sicurezza Lavoratori - Aggiornamento - Maggio 2026
DESCRIPTION:
URL:https://confimicremona.it/corso/sicurezza-lavoratori-aggiornamento-maggio-2026/
CATEGORIES:Corsi sulla sicurezza
ATTACH;FMTTYPE=image/png:https://confimicremona.it/wp-content/uploads/2026/04/cover-sicurezza-lavoratori-aggiornamento-maggio-2026-1775052563204.png
END:VEVENT
BEGIN:VEVENT
DTSTART;TZID=Europe/Paris:20260529T090000
DTEND;TZID=Europe/Paris:20260529T170000
DTSTAMP:20260424T161551
CREATED:20260401T140100Z
LAST-MODIFIED:20260401T140108Z
UID:5301-1780045200-1780074000@confimicremona.it
SUMMARY:Sicurezza Lavoratori – Parte specifica rischio medio - Maggio 2026
DESCRIPTION:
URL:https://confimicremona.it/corso/sicurezza-lavoratori-parte-specifica-rischio-medio-maggio-2026/
CATEGORIES:Corsi sulla sicurezza
ATTACH;FMTTYPE=image/png:https://confimicremona.it/wp-content/uploads/2026/04/cover-sicurezza-lavoratori-parte-specifica-rischio-medio-1775052044343.png
END:VEVENT
BEGIN:VEVENT
DTSTART;VALUE=DATE:20260529
DTEND;VALUE=DATE:20260530
DTSTAMP:20260424T161551
CREATED:20260401T140558Z
LAST-MODIFIED:20260401T140637Z
UID:5307-1780012800-1780099199@confimicremona.it
SUMMARY:Sicurezza Lavoratori – Parte specifica rischio alto - Maggio 2026
DESCRIPTION:
URL:https://confimicremona.it/corso/sicurezza-lavoratori-parte-specifica-rischio-alto-maggio-2026/
CATEGORIES:Corsi sulla sicurezza
ATTACH;FMTTYPE=image/png:https://confimicremona.it/wp-content/uploads/2026/04/cover-sicurezza-lavoratori-parte-specifica-rischio-alto-1775052330889.png
END:VEVENT
BEGIN:VEVENT
DTSTART;TZID=Europe/Paris:20260611T090000
DTEND;TZID=Europe/Paris:20260612T180000
DTSTAMP:20260424T161551
CREATED:20260410T110503Z
LAST-MODIFIED:20260410T110512Z
UID:5409-1781168400-1781287200@confimicremona.it
SUMMARY:IL GOVERNO DELLE IMPRESE DI FAMIGLIA\nLE QUESTIONI CHIAVE PER LA CONTINUITÀ E LO SVILUPPO
DESCRIPTION:
URL:https://confimicremona.it/corso/il-governo-delle-imprese-di-famigliale-questioni-chiave-per-la-continuita-e-lo-sviluppo/
CATEGORIES:Amministrazione, finanza e controllo,Gestione risorse umane,Leadership e Soft Skills,Management e strategia
ATTACH;FMTTYPE=image/png:https://confimicremona.it/wp-content/uploads/2026/04/cover-il-governo-delle-imprese-di-famiglia-le-questioni-1775819031480.png
END:VEVENT
BEGIN:VEVENT
DTSTART;VALUE=DATE:20260618
DTEND;VALUE=DATE:20260619
DTSTAMP:20260424T161551
CREATED:20260114T094902Z
LAST-MODIFIED:20260123T151609Z
UID:3742-1781740800-1781827199@confimicremona.it
SUMMARY:Carrelli elevatori - Prima formazione - Giugno 2026
DESCRIPTION:
URL:https://confimicremona.it/corso/carrelli-elevatori-prima-formazione-giugno-2026/
CATEGORIES:Corsi sulla sicurezza
ATTACH;FMTTYPE=image/jpeg:https://confimicremona.it/wp-content/uploads/2026/01/cover-1768229579491-987546130.jpeg
END:VEVENT
BEGIN:VEVENT
DTSTART;VALUE=DATE:20260623
DTEND;VALUE=DATE:20260624
DTSTAMP:20260424T161551
CREATED:20260113T075731Z
LAST-MODIFIED:20260116T111920Z
UID:3268-1782172800-1782259199@confimicremona.it
SUMMARY:Preposti – Aggiornamento – Giugno 2026
DESCRIPTION:
URL:https://confimicremona.it/corso/preposti-aggiornamento-giugno-2026/
CATEGORIES:Corsi sulla sicurezza
ATTACH;FMTTYPE=image/jpeg:https://confimicremona.it/wp-content/uploads/2026/01/cover-1768290975594-308931957.jpg
END:VEVENT
BEGIN:VEVENT
DTSTART;TZID=Europe/Paris:20260623T090000
DTEND;TZID=Europe/Paris:20260623T150000
DTSTAMP:20260424T161551
CREATED:20260219T161714Z
LAST-MODIFIED:20260219T161724Z
UID:4445-1782205200-1782226800@confimicremona.it
SUMMARY:Preposti – Aggiornamento – Giugno 2026
DESCRIPTION:
URL:https://confimicremona.it/corso/preposti-aggiornamento-giugno-2026-2/
CATEGORIES:Corsi sulla sicurezza
ATTACH;FMTTYPE=image/png:https://confimicremona.it/wp-content/uploads/2026/02/cover-preposti-aggiornamento-giugno-2026-1771517809560.png
END:VEVENT
BEGIN:VEVENT
DTSTART;TZID=Europe/Paris:20260623T090000
DTEND;TZID=Europe/Paris:20260623T150000
DTSTAMP:20260424T161551
CREATED:20260219T162037Z
LAST-MODIFIED:20260219T162047Z
UID:4448-1782205200-1782226800@confimicremona.it
SUMMARY:Preposti – Aggiornamento – Settembre 2026
DESCRIPTION:
URL:https://confimicremona.it/corso/preposti-aggiornamento-settembre-2026-2/
CATEGORIES:Corsi sulla sicurezza
ATTACH;FMTTYPE=image/png:https://confimicremona.it/wp-content/uploads/2026/02/cover-preposti-aggiornamento-settembre-2026-1771518016410.png
END:VEVENT
BEGIN:VEVENT
DTSTART;VALUE=DATE:20260625
DTEND;VALUE=DATE:20260626
DTSTAMP:20260424T161551
CREATED:20260112T144307Z
LAST-MODIFIED:20260123T152129Z
UID:3750-1782345600-1782431999@confimicremona.it
SUMMARY:Carrelli elevatori: Aggiornamento – Giugno 2026
DESCRIPTION:
URL:https://confimicremona.it/corso/carrelli-elevatori-aggiornamento-giugno-2026/
CATEGORIES:Corsi sulla sicurezza
ATTACH;FMTTYPE=image/jpeg:https://confimicremona.it/wp-content/uploads/2026/01/cover-1768228678415-648782834.jpeg
END:VEVENT
BEGIN:VEVENT
DTSTART;VALUE=DATE:20260625
DTEND;VALUE=DATE:20260626
DTSTAMP:20260424T161551
CREATED:20260114T085635Z
LAST-MODIFIED:20260121T091645Z
UID:3670-1782345600-1782431999@confimicremona.it
SUMMARY:Antincendio - Nuovi addetti Liv.2 - Giugno 2026
DESCRIPTION:
URL:https://confimicremona.it/corso/antincendio-nuovi-addetti-liv-2-giugno-2026/
CATEGORIES:Corsi sulla sicurezza
ATTACH;FMTTYPE=image/jpeg:https://confimicremona.it/wp-content/uploads/2026/01/antincendio.jpeg
END:VEVENT
BEGIN:VEVENT
DTSTART;VALUE=DATE:20260625
DTEND;VALUE=DATE:20260626
DTSTAMP:20260424T161551
CREATED:20260114T085635Z
LAST-MODIFIED:20260123T150317Z
UID:3712-1782345600-1782431999@confimicremona.it
SUMMARY:Antincendio - Aggiornamento addetti Liv.1 - Giugno 2026
DESCRIPTION:
URL:https://confimicremona.it/corso/antincendio-aggiornamento-addetti-liv-1-giugno-2026/
CATEGORIES:Corsi sulla sicurezza
ATTACH;FMTTYPE=image/jpeg:https://confimicremona.it/wp-content/uploads/2026/01/antincendio.jpeg
END:VEVENT
BEGIN:VEVENT
DTSTART;VALUE=DATE:20260625
DTEND;VALUE=DATE:20260626
DTSTAMP:20260424T161551
CREATED:20260114T085635Z
LAST-MODIFIED:20260121T090517Z
UID:3660-1782345600-1782431999@confimicremona.it
SUMMARY:Antincendio - Nuovi addetti Liv.1 - Giugno 2026
DESCRIPTION:
URL:https://confimicremona.it/corso/antincendio-nuovi-addetti-liv-1-giugno-2026/
CATEGORIES:Corsi sulla sicurezza
ATTACH;FMTTYPE=image/jpeg:https://confimicremona.it/wp-content/uploads/2026/01/antincendio.jpeg
END:VEVENT
BEGIN:VEVENT
DTSTART;VALUE=DATE:20260625
DTEND;VALUE=DATE:20260626
DTSTAMP:20260424T161551
CREATED:20260114T085635Z
LAST-MODIFIED:20260123T151046Z
UID:3725-1782345600-1782431999@confimicremona.it
SUMMARY:Antincendio - Aggiornamento addetti Liv.2 - Giugno 2026
DESCRIPTION:
URL:https://confimicremona.it/corso/antincendio-aggiornamento-addetti-liv-2-giugno-2026/
CATEGORIES:Corsi sulla sicurezza
ATTACH;FMTTYPE=image/jpeg:https://confimicremona.it/wp-content/uploads/2026/01/antincendio.jpeg
END:VEVENT
BEGIN:VEVENT
DTSTART;TZID=Europe/Paris:20260626T090000
DTEND;TZID=Europe/Paris:20260626T130000
DTSTAMP:20260424T161551
CREATED:20260401T153249Z
LAST-MODIFIED:20260401T153259Z
UID:5354-1782464400-1782478800@confimicremona.it
SUMMARY:L’ABC per la gestione degli adempimenti e delle procedure doganali. Focus sulle fasi operative di sdoganamento delle merci
DESCRIPTION:
URL:https://confimicremona.it/corso/labc-per-la-gestione-degli-adempimenti-e-delle-procedure-doganali-focus-sulle-fasi-operative-di-sdoganamento-delle-merci/
CATEGORIES:Acquisti, produzione e logistica,Corso in webinar,Export
ATTACH;FMTTYPE=image/jpeg:https://confimicremona.it/wp-content/uploads/2026/04/cover-1775057509418-398724114-scaled.jpg
END:VEVENT
BEGIN:VEVENT
DTSTART;VALUE=DATE:20260630
DTEND;VALUE=DATE:20260701
DTSTAMP:20260424T161551
CREATED:20260112T134053Z
LAST-MODIFIED:20260306T152327Z
UID:3034-1782777600-1782863999@confimicremona.it
SUMMARY:Preposti – Prima formazione – Giugno 2026
DESCRIPTION:
URL:https://confimicremona.it/corso/preposti-prima-formazione-giugno-2026/
CATEGORIES:Corsi sulla sicurezza
ATTACH;FMTTYPE=image/jpeg:https://confimicremona.it/wp-content/uploads/2026/01/PREPOSTI_LEGO.jpg
END:VEVENT
BEGIN:VEVENT
DTSTART;VALUE=DATE:20260701
DTEND;VALUE=DATE:20260702
DTSTAMP:20260424T161551
CREATED:20260116T114313Z
LAST-MODIFIED:20260119T134202Z
UID:3335-1782864000-1782950399@confimicremona.it
SUMMARY:RLS - Prima formazione - Luglio 2026
DESCRIPTION:
URL:https://confimicremona.it/corso/rls-prima-formazione-luglio-2026/
CATEGORIES:Corsi sulla sicurezza
ATTACH;FMTTYPE=image/jpeg:https://confimicremona.it/wp-content/uploads/2026/01/RLS.jpeg
END:VEVENT
BEGIN:VEVENT
DTSTART;TZID=Europe/Paris:20260701T090000
DTEND;TZID=Europe/Paris:20260704T180000
DTSTAMP:20260424T161551
CREATED:20260219T162529Z
LAST-MODIFIED:20260219T162537Z
UID:4451-1782896400-1783188000@confimicremona.it
SUMMARY:RLS – Prima formazione – Luglio 2026
DESCRIPTION:
URL:https://confimicremona.it/corso/rls-prima-formazione-luglio-2026-2/
CATEGORIES:Corsi sulla sicurezza
ATTACH;FMTTYPE=image/png:https://confimicremona.it/wp-content/uploads/2026/02/cover-rls-prima-formazione-luglio-2026-1771518315684.png
END:VEVENT
BEGIN:VEVENT
DTSTART;VALUE=DATE:20260702
DTEND;VALUE=DATE:20260703
DTSTAMP:20260424T161551
CREATED:20251204T231237Z
LAST-MODIFIED:20260227T120609Z
UID:1416-1782950400-1783036799@confimicremona.it
SUMMARY:Corso Per Apprendisti – 2° Annualità – Problem Solving
DESCRIPTION:
URL:https://confimicremona.it/corso/corso-per-apprendisti-2-annualita-problem-solving/
CATEGORIES:Per tutti
ATTACH;FMTTYPE=image/jpeg:https://confimicremona.it/wp-content/uploads/2025/12/problem-solving.jpg
END:VEVENT
BEGIN:VEVENT
DTSTART;VALUE=DATE:20260702
DTEND;VALUE=DATE:20260703
DTSTAMP:20260424T161551
CREATED:20260116T115130Z
LAST-MODIFIED:20260121T084907Z
UID:3589-1782950400-1783036799@confimicremona.it
SUMMARY:Primo Soccorso aziende del gruppo B-C - Prima formazione - Luglio 2026
DESCRIPTION:
URL:https://confimicremona.it/corso/primo-soccorso-aziende-del-gruppo-b-c-prima-formazione-luglio-2026/
CATEGORIES:Corsi sulla sicurezza
ATTACH;FMTTYPE=image/jpeg:https://confimicremona.it/wp-content/uploads/2026/01/Pronto-soccorso-1.jpeg
END:VEVENT
BEGIN:VEVENT
DTSTART;VALUE=DATE:20260702
DTEND;VALUE=DATE:20260703
DTSTAMP:20260424T161551
CREATED:20260116T115130Z
LAST-MODIFIED:20260121T085438Z
UID:3613-1782950400-1783036799@confimicremona.it
SUMMARY:Primo Soccorso aziende del gruppo A - Aggiornamento - Luglio 2026
DESCRIPTION:
URL:https://confimicremona.it/corso/primo-soccorso-aziende-del-gruppo-a-aggiornamento-luglio-2026/
CATEGORIES:Corsi sulla sicurezza
ATTACH;FMTTYPE=image/jpeg:https://confimicremona.it/wp-content/uploads/2026/01/Pronto-soccorso-1.jpeg
END:VEVENT
BEGIN:VEVENT
DTSTART;VALUE=DATE:20260702
DTEND;VALUE=DATE:20260703
DTSTAMP:20260424T161551
CREATED:20260116T115130Z
LAST-MODIFIED:20260121T084341Z
UID:3569-1782950400-1783036799@confimicremona.it
SUMMARY:Primo Soccorso aziende del gruppo A - Prima formazione - Luglio 2026
DESCRIPTION:
URL:https://confimicremona.it/corso/primo-soccorso-aziende-del-gruppo-a-prima-formazione-luglio-2026/
CATEGORIES:Corsi sulla sicurezza
ATTACH;FMTTYPE=image/jpeg:https://confimicremona.it/wp-content/uploads/2026/01/Pronto-soccorso-1.jpeg
END:VEVENT
BEGIN:VEVENT
DTSTART;VALUE=DATE:20260723
DTEND;VALUE=DATE:20260724
DTSTAMP:20260424T161551
CREATED:20260116T115130Z
LAST-MODIFIED:20260121T085949Z
UID:3634-1784764800-1784851199@confimicremona.it
SUMMARY:Primo Soccorso aziende del gruppo B-C - Aggiornamento - Luglio 2026
DESCRIPTION:
URL:https://confimicremona.it/corso/primo-soccorso-aziende-del-gruppo-b-c-aggiornamento-luglio-2026/
CATEGORIES:Corsi sulla sicurezza
ATTACH;FMTTYPE=image/jpeg:https://confimicremona.it/wp-content/uploads/2026/01/Pronto-soccorso-1.jpeg
END:VEVENT
BEGIN:VEVENT
DTSTART;VALUE=DATE:20260731
DTEND;VALUE=DATE:20260801
DTSTAMP:20260424T161551
CREATED:20251219T131333Z
LAST-MODIFIED:20251219T135149Z
UID:2791-1785456000-1785542399@confimicremona.it
SUMMARY:Sicurezza Lavoratori – Parte Generale - Luglio 2026
DESCRIPTION:
URL:https://confimicremona.it/corso/sicurezza-lavoratori-parte-generale-luglio-2026/
CATEGORIES:Corsi sulla sicurezza
ATTACH;FMTTYPE=image/jpeg:https://confimicremona.it/wp-content/uploads/2025/12/01.-SICUREZZA-GENERALE.jpg
END:VEVENT
BEGIN:VEVENT
DTSTART;VALUE=DATE:20260731
DTEND;VALUE=DATE:20260801
DTSTAMP:20260424T161551
CREATED:20251219T131626Z
LAST-MODIFIED:20251219T135218Z
UID:2793-1785456000-1785542399@confimicremona.it
SUMMARY:Sicurezza Lavoratori – Parte specifica rischio basso - Luglio 2026
DESCRIPTION:
URL:https://confimicremona.it/corso/sicurezza-lavoratori-parte-specifica-rischio-basso-luglio-2026/
CATEGORIES:Corsi sulla sicurezza
ATTACH;FMTTYPE=image/jpeg:https://confimicremona.it/wp-content/uploads/2025/12/02.-SPECIFICA-RISCHIO-BASSO-1.jpg
END:VEVENT
BEGIN:VEVENT
DTSTART;VALUE=DATE:20260731
DTEND;VALUE=DATE:20260801
DTSTAMP:20260424T161551
CREATED:20251219T132545Z
LAST-MODIFIED:20251219T135511Z
UID:2799-1785456000-1785542399@confimicremona.it
SUMMARY:Sicurezza Lavoratori - Aggiornamento - Luglio 2026
DESCRIPTION:
URL:https://confimicremona.it/corso/sicurezza-lavoratori-aggiornamento-luglio-2026/
CATEGORIES:Corsi sulla sicurezza
ATTACH;FMTTYPE=image/jpeg:https://confimicremona.it/wp-content/uploads/2025/12/05.-AGGIORNAMENTO-LAVORATORI-1.jpg
END:VEVENT
BEGIN:VEVENT
DTSTART;VALUE=DATE:20260731
DTEND;VALUE=DATE:20260801
DTSTAMP:20260424T161551
CREATED:20251219T132054Z
LAST-MODIFIED:20251219T135335Z
UID:2795-1785456000-1785542399@confimicremona.it
SUMMARY:Sicurezza Lavoratori – Parte specifica rischio medio - Luglio 2026
DESCRIPTION:
URL:https://confimicremona.it/corso/sicurezza-lavoratori-parte-specifica-rischio-medio-luglio-2026/
CATEGORIES:Corsi sulla sicurezza
ATTACH;FMTTYPE=image/jpeg:https://confimicremona.it/wp-content/uploads/2025/12/03.-SPECIFICA-RISCHIO-MEDIO-2.jpg
END:VEVENT
BEGIN:VEVENT
DTSTART;VALUE=DATE:20260731
DTEND;VALUE=DATE:20260802
DTSTAMP:20260424T161551
CREATED:20251219T132320Z
LAST-MODIFIED:20251219T135424Z
UID:2797-1785456000-1785628799@confimicremona.it
SUMMARY:Sicurezza Lavoratori – Parte specifica rischio alto - Luglio 2026
DESCRIPTION:
URL:https://confimicremona.it/corso/sicurezza-lavoratori-parte-specifica-rischio-alto-luglio-2026/
CATEGORIES:Corsi sulla sicurezza
ATTACH;FMTTYPE=image/jpeg:https://confimicremona.it/wp-content/uploads/2025/12/04.-SPECIFICA-RISCHIO-ALTO-2.jpg
END:VEVENT
BEGIN:VEVENT
DTSTART;VALUE=DATE:20260908
DTEND;VALUE=DATE:20260909
DTSTAMP:20260424T161551
CREATED:20260114T083257Z
LAST-MODIFIED:20260119T140801Z
UID:3384-1788825600-1788911999@confimicremona.it
SUMMARY:RLS – Aggiornamento aziende con più di 50 dipendenti – Settembre 2026
DESCRIPTION:
URL:https://confimicremona.it/corso/rls-aggiornamento-aziende-con-piu-di-50-dipendenti-settembre-2026/
CATEGORIES:Corsi sulla sicurezza
ATTACH;FMTTYPE=image/jpeg:https://confimicremona.it/wp-content/uploads/2026/01/cover-1768379548925-98450342.jpeg
END:VEVENT
END:VCALENDAR